BEGIN:VCALENDAR
VERSION:2.0
PRODID:-//NIDAS - ECPv6.15.20//NONSGML v1.0//EN
CALSCALE:GREGORIAN
METHOD:PUBLISH
X-WR-CALNAME:NIDAS
X-ORIGINAL-URL:https://nidasnorfolk.co.uk
X-WR-CALDESC:Events for NIDAS
REFRESH-INTERVAL;VALUE=DURATION:PT1H
X-Robots-Tag:noindex
X-PUBLISHED-TTL:PT1H
BEGIN:VTIMEZONE
TZID:Europe/London
BEGIN:DAYLIGHT
TZOFFSETFROM:+0000
TZOFFSETTO:+0100
TZNAME:BST
DTSTART:20240331T010000
END:DAYLIGHT
BEGIN:STANDARD
TZOFFSETFROM:+0100
TZOFFSETTO:+0000
TZNAME:GMT
DTSTART:20241027T010000
END:STANDARD
BEGIN:DAYLIGHT
TZOFFSETFROM:+0000
TZOFFSETTO:+0100
TZNAME:BST
DTSTART:20250330T010000
END:DAYLIGHT
BEGIN:STANDARD
TZOFFSETFROM:+0100
TZOFFSETTO:+0000
TZNAME:GMT
DTSTART:20251026T010000
END:STANDARD
BEGIN:DAYLIGHT
TZOFFSETFROM:+0000
TZOFFSETTO:+0100
TZNAME:BST
DTSTART:20260329T010000
END:DAYLIGHT
BEGIN:STANDARD
TZOFFSETFROM:+0100
TZOFFSETTO:+0000
TZNAME:GMT
DTSTART:20261025T010000
END:STANDARD
BEGIN:DAYLIGHT
TZOFFSETFROM:+0000
TZOFFSETTO:+0100
TZNAME:BST
DTSTART:20270328T010000
END:DAYLIGHT
BEGIN:STANDARD
TZOFFSETFROM:+0100
TZOFFSETTO:+0000
TZNAME:GMT
DTSTART:20271031T010000
END:STANDARD
END:VTIMEZONE
BEGIN:VEVENT
DTSTART;TZID=Europe/London:20260318T093000
DTEND;TZID=Europe/London:20260318T133000
DTSTAMP:20260420T142839
CREATED:20260204T162559Z
LAST-MODIFIED:20260316T155920Z
UID:10000018-1773826200-1773840600@nidasnorfolk.co.uk
SUMMARY:'Supporting children’s agency and "unmuting" their voice in professional settings': FULL
DESCRIPTION:This is an online event via MS Teams which will explore children as victims in their own right in accordance with The Domestic Abuse Act 2021. \nSuzannah Armstrong from the Office of the Police Crime Commissioner Norfolk will open the event with a video – ‘Zuzannah Story’ – a powerful account from Zuzannah about her experience as a child of domestic abuse. \nWe have speakers from; \nThe Change Project – Zara Travers is the Training and Development Manager  –  With a background in Criminology and Psychology\, extensive frontline experience\, and lived experience as a child affected by domestic abuse\, Zara is committed to elevating the understanding of children as victims\, not witnesses\, in their own right. Her work centres on ‘unmuting’ the child’s voice within safeguarding and intervention\, ensuring professionals recognise the distinct harms\, needs\, and perspectives of children living with domestic abuse. In her upcoming talk\, she highlights why truly hearing\, validating\, and acting upon the child’s voice is essential to effective protection and long‑term recovery. \nThe CADS Team at Norfolk County Council represented by Lisa Smith -CADS Education Representative\, who is responsible for the daily delivery of Operation Encompass to school-age children within Norfolk. Lisa will be speaking about Operation Encompass and the importance of alerting schools and colleges early in the day. Alongside Lisa\, three Key Adults/Designated Safeguarding Leads from unique school settings will share how they listen and advocate their feelings and wishes. All three are Domestic Champions from primary\, secondary\, and special schools\, offering insight into how divergent this work can be. \nClaire Throssell MBE –  Survivor Claire Throssell’s two sons\, Jack\, 12\, and Paul\, 9\, were both killed by their father\, despite her warnings that he was a danger to them. She has since campaigned tirelessly to stop unsafe child contact with dangerous perpetrators of domestic abuse. Due to her commitment and resolve\, family courts are safer – it’s now mandatory for the courts to determine whether children will be at risk of harm from a contact order\, and perpetrators are no longer able to cross examine their victims in court. \nPlease apply via the form below.
URL:https://nidasnorfolk.co.uk/event/children-as-victims-of-domestic-abuse-online-learning-event/
LOCATION:Teams
END:VEVENT
BEGIN:VEVENT
DTSTART;TZID=Europe/London:20260225T093000
DTEND;TZID=Europe/London:20260225T143000
DTSTAMP:20260420T142839
CREATED:20260113T172144Z
LAST-MODIFIED:20260223T092702Z
UID:10000016-1772011800-1772029800@nidasnorfolk.co.uk
SUMMARY:A Trauma Informed Approach to Domestic Abuse CANCELLED  - Now to run on 21st April FULL
DESCRIPTION:MOVED to 21st April 2026 9.30am – 2.30pm – this training is FULL\nThe purpose of the NIDAS Trauma Informed Approach to Domestic Abuse training is to provide an understanding and enhance awareness of working with those who have been impacted by Domestic Abuse and the effects of trauma. \nAims of the session \n\nWhat is Trauma?​\nRecognise trauma prevalence and the impact on survivors\, their families and staff​\nA Trauma informed approach​\nHow to respond effectively ​\n\nAs a professional​\nAs an organisation ​\n\n\nExplore the Trauma Recovery Model.  ​\nExplore how to embed a Trauma-informed approach into workplace practices.​\nResources and further learning\n\nOnce successfully booked\, you will be emailed a joining link to the meeting nearer the time of the event.
URL:https://nidasnorfolk.co.uk/event/a-trauma-informed-approach-to-domestic-abuse/
LOCATION:Teams
END:VEVENT
BEGIN:VEVENT
DTSTART;TZID=Europe/London:20260126T140000
DTEND;TZID=Europe/London:20260126T151500
DTSTAMP:20260420T142839
CREATED:20251126T213343Z
LAST-MODIFIED:20260123T113852Z
UID:10000015-1769436000-1769440500@nidasnorfolk.co.uk
SUMMARY:Norfolk Constabulary Webinar - Multi Agency Risk Assessment Co-ordination (MARAC) - January 2026 - Registrations closed
DESCRIPTION:Norfolk Constabulary are offering a free session on Monday 26th January at 2pm for DA Champions to learn more about The Multi Agency Risk Assessment Co-ordination (MARAC)\, which is how local agencies share information about high-risk domestic abuse victims in Norfolk. The MARAC aims to increase the safety\, health and wellbeing of victims. It also aims to reduce the risk of serious harm or homicide. The session will provide clarity over local process and an opportunity to ask questions.
URL:https://nidasnorfolk.co.uk/event/norfolk-constabulary-webinar-multi-agency-risk-assessment-co-ordination-marac-january-2026/
LOCATION:Teams
END:VEVENT
BEGIN:VEVENT
DTSTART;TZID=Europe/London:20251015T093000
DTEND;TZID=Europe/London:20251015T123000
DTSTAMP:20260420T142839
CREATED:20250724T095124Z
LAST-MODIFIED:20251006T101401Z
UID:10000013-1760520600-1760531400@nidasnorfolk.co.uk
SUMMARY:Male Victims: Breaking the Silence
DESCRIPTION:Male Victims – Online Learning Event \n09:30am Introduction \n09:35am Luke Martin – Male Experiences of Domestic Abuse and Recovery – Q&A \n10:35am Break \n10:50am RESPECT – Tanisha Jnagel – Men’s Advice Line – Toolkit – Barriers to Reporting – Q&A \n11:50am NIDAS – Specialist Male IDVA– How NIDAS support Male Victims of Domestic Abuse \n12:30pm Close
URL:https://nidasnorfolk.co.uk/event/male-victims-breaking-the-silence/
LOCATION:Teams
END:VEVENT
BEGIN:VEVENT
DTSTART;TZID=Europe/London:20250923T093000
DTEND;TZID=Europe/London:20250923T123000
DTSTAMP:20260420T142839
CREATED:20250724T093441Z
LAST-MODIFIED:20250922T140612Z
UID:10000012-1758619800-1758630600@nidasnorfolk.co.uk
SUMMARY:Shining the Light: Exposing Coercion & Control
DESCRIPTION:Coercive Control: Online Learning Event – FULL\n09:30am – Introduction \n09:35am – Luke Hart – What Coercive Control is – Personal Story – Q&A \n10:35am – Dr Emma Katz – The Impact of Coercive Control on Children – Q&A \n11:35am – Break \n11:45am – Sue Penna – Recovery from Coercive Control – Q&A \n12:30pm – Close
URL:https://nidasnorfolk.co.uk/event/shining-the-light-exposing-coercion-control/
LOCATION:Teams
END:VEVENT
END:VCALENDAR