BEGIN:VCALENDAR
VERSION:2.0
PRODID:-//NIDAS - ECPv6.15.20//NONSGML v1.0//EN
CALSCALE:GREGORIAN
METHOD:PUBLISH
X-WR-CALNAME:NIDAS
X-ORIGINAL-URL:https://nidasnorfolk.co.uk
X-WR-CALDESC:Events for NIDAS
REFRESH-INTERVAL;VALUE=DURATION:PT1H
X-Robots-Tag:noindex
X-PUBLISHED-TTL:PT1H
BEGIN:VTIMEZONE
TZID:Europe/London
BEGIN:DAYLIGHT
TZOFFSETFROM:+0000
TZOFFSETTO:+0100
TZNAME:BST
DTSTART:20250330T010000
END:DAYLIGHT
BEGIN:STANDARD
TZOFFSETFROM:+0100
TZOFFSETTO:+0000
TZNAME:GMT
DTSTART:20251026T010000
END:STANDARD
BEGIN:DAYLIGHT
TZOFFSETFROM:+0000
TZOFFSETTO:+0100
TZNAME:BST
DTSTART:20260329T010000
END:DAYLIGHT
BEGIN:STANDARD
TZOFFSETFROM:+0100
TZOFFSETTO:+0000
TZNAME:GMT
DTSTART:20261025T010000
END:STANDARD
BEGIN:DAYLIGHT
TZOFFSETFROM:+0000
TZOFFSETTO:+0100
TZNAME:BST
DTSTART:20270328T010000
END:DAYLIGHT
BEGIN:STANDARD
TZOFFSETFROM:+0100
TZOFFSETTO:+0000
TZNAME:GMT
DTSTART:20271031T010000
END:STANDARD
END:VTIMEZONE
BEGIN:VEVENT
DTSTART;TZID=Europe/London:20260225T093000
DTEND;TZID=Europe/London:20260225T143000
DTSTAMP:20260420T210553
CREATED:20260113T172144Z
LAST-MODIFIED:20260223T092702Z
UID:10000016-1772011800-1772029800@nidasnorfolk.co.uk
SUMMARY:A Trauma Informed Approach to Domestic Abuse CANCELLED  - Now to run on 21st April FULL
DESCRIPTION:MOVED to 21st April 2026 9.30am – 2.30pm – this training is FULL\nThe purpose of the NIDAS Trauma Informed Approach to Domestic Abuse training is to provide an understanding and enhance awareness of working with those who have been impacted by Domestic Abuse and the effects of trauma. \nAims of the session \n\nWhat is Trauma?​\nRecognise trauma prevalence and the impact on survivors\, their families and staff​\nA Trauma informed approach​\nHow to respond effectively ​\n\nAs a professional​\nAs an organisation ​\n\n\nExplore the Trauma Recovery Model.  ​\nExplore how to embed a Trauma-informed approach into workplace practices.​\nResources and further learning\n\nOnce successfully booked\, you will be emailed a joining link to the meeting nearer the time of the event.
URL:https://nidasnorfolk.co.uk/event/a-trauma-informed-approach-to-domestic-abuse/
LOCATION:Teams
END:VEVENT
END:VCALENDAR