BEGIN:VCALENDAR
VERSION:2.0
PRODID:-//NIDAS - ECPv6.15.20//NONSGML v1.0//EN
CALSCALE:GREGORIAN
METHOD:PUBLISH
X-WR-CALNAME:NIDAS
X-ORIGINAL-URL:https://nidasnorfolk.co.uk
X-WR-CALDESC:Events for NIDAS
REFRESH-INTERVAL;VALUE=DURATION:PT1H
X-Robots-Tag:noindex
X-PUBLISHED-TTL:PT1H
BEGIN:VTIMEZONE
TZID:UTC
BEGIN:STANDARD
TZOFFSETFROM:+0000
TZOFFSETTO:+0000
TZNAME:UTC
DTSTART:20240101T000000
END:STANDARD
END:VTIMEZONE
BEGIN:VTIMEZONE
TZID:Europe/London
BEGIN:DAYLIGHT
TZOFFSETFROM:+0000
TZOFFSETTO:+0100
TZNAME:BST
DTSTART:20240331T010000
END:DAYLIGHT
BEGIN:STANDARD
TZOFFSETFROM:+0100
TZOFFSETTO:+0000
TZNAME:GMT
DTSTART:20241027T010000
END:STANDARD
BEGIN:DAYLIGHT
TZOFFSETFROM:+0000
TZOFFSETTO:+0100
TZNAME:BST
DTSTART:20250330T010000
END:DAYLIGHT
BEGIN:STANDARD
TZOFFSETFROM:+0100
TZOFFSETTO:+0000
TZNAME:GMT
DTSTART:20251026T010000
END:STANDARD
BEGIN:DAYLIGHT
TZOFFSETFROM:+0000
TZOFFSETTO:+0100
TZNAME:BST
DTSTART:20260329T010000
END:DAYLIGHT
BEGIN:STANDARD
TZOFFSETFROM:+0100
TZOFFSETTO:+0000
TZNAME:GMT
DTSTART:20261025T010000
END:STANDARD
END:VTIMEZONE
BEGIN:VEVENT
DTSTART;TZID=UTC:20250606T093000
DTEND;TZID=UTC:20250606T113000
DTSTAMP:20260421T053621
CREATED:20250325T112606Z
LAST-MODIFIED:20250523T142431Z
UID:10000003-1749202200-1749209400@nidasnorfolk.co.uk
SUMMARY:Domestic Abuse and Older People
DESCRIPTION:Description \nThe purpose of the NIDAS Domestic Abuse and Older People training is to provide awareness and understanding of the impact domestic abuse has on older people and the barriers they face when seeking support. \nLearning Aims  \n\nTo recognize the signs and symptoms of domestic abuse in older people\nTo look at national and local prevalence\nTo understand the barriers facing older people in disclosing abuse\nKnow what to do if you are worried about an older person experiencing domestic abuse\nHave knowledge of local and national specialist support agencies\n\n40 places available. Once successfully booked\, you will be emailed a link to the meeting before it begins.
URL:https://nidasnorfolk.co.uk/event/domestic-abuse-and-older-people/
LOCATION:https://nidasnorfolk.co.uk/event/domestic-abuse-and-older-people/
END:VEVENT
BEGIN:VEVENT
DTSTART;TZID=Europe/London:20250522T093000
DTEND;TZID=Europe/London:20250522T113000
DTSTAMP:20260421T053621
CREATED:20250325T111204Z
LAST-MODIFIED:20250416T113018Z
UID:10000002-1747906200-1747913400@nidasnorfolk.co.uk
SUMMARY:Male Victims of Abuse
DESCRIPTION:Thank you for the amazing response. All spots are currently taken – we hope to see you at the next event! \n\nThe purpose of the NIDAS Male Victims of Abuse Training is to provide an understanding and enhance awareness on the impact domestic abuse has on male victims and the additional barrier male victims face when seeking support.  \nLearning Aims \n\nThe prevalence of Domestic Abuse against men in the UK​\nFactors which contribute to Domestic Abuse against Men​\nIndicators of Domestic Abuse against men.​\nTactics of female perpetrators within intimate partner abuse.​\nIdentify National and Local Support Services for male victims.\n\n40 places available. Once successfully booked\, you will be emailed a link to the meeting before it begins.
URL:https://nidasnorfolk.co.uk/event/male-victims-of-abuse/
LOCATION:https://nidasnorfolk.co.uk/event/male-victims-of-abuse/
END:VEVENT
END:VCALENDAR