BEGIN:VCALENDAR
VERSION:2.0
PRODID:-//NIDAS - ECPv6.15.20//NONSGML v1.0//EN
CALSCALE:GREGORIAN
METHOD:PUBLISH
X-WR-CALNAME:NIDAS
X-ORIGINAL-URL:https://nidasnorfolk.co.uk
X-WR-CALDESC:Events for NIDAS
REFRESH-INTERVAL;VALUE=DURATION:PT1H
X-Robots-Tag:noindex
X-PUBLISHED-TTL:PT1H
BEGIN:VTIMEZONE
TZID:Europe/London
BEGIN:DAYLIGHT
TZOFFSETFROM:+0000
TZOFFSETTO:+0100
TZNAME:BST
DTSTART:20250330T010000
END:DAYLIGHT
BEGIN:STANDARD
TZOFFSETFROM:+0100
TZOFFSETTO:+0000
TZNAME:GMT
DTSTART:20251026T010000
END:STANDARD
BEGIN:DAYLIGHT
TZOFFSETFROM:+0000
TZOFFSETTO:+0100
TZNAME:BST
DTSTART:20260329T010000
END:DAYLIGHT
BEGIN:STANDARD
TZOFFSETFROM:+0100
TZOFFSETTO:+0000
TZNAME:GMT
DTSTART:20261025T010000
END:STANDARD
BEGIN:DAYLIGHT
TZOFFSETFROM:+0000
TZOFFSETTO:+0100
TZNAME:BST
DTSTART:20270328T010000
END:DAYLIGHT
BEGIN:STANDARD
TZOFFSETFROM:+0100
TZOFFSETTO:+0000
TZNAME:GMT
DTSTART:20271031T010000
END:STANDARD
END:VTIMEZONE
BEGIN:VTIMEZONE
TZID:UTC
BEGIN:STANDARD
TZOFFSETFROM:+0000
TZOFFSETTO:+0000
TZNAME:UTC
DTSTART:20250101T000000
END:STANDARD
END:VTIMEZONE
BEGIN:VEVENT
DTSTART;TZID=Europe/London:20260126T140000
DTEND;TZID=Europe/London:20260126T151500
DTSTAMP:20260421T040416
CREATED:20251126T213343Z
LAST-MODIFIED:20260123T113852Z
UID:10000015-1769436000-1769440500@nidasnorfolk.co.uk
SUMMARY:Norfolk Constabulary Webinar - Multi Agency Risk Assessment Co-ordination (MARAC) - January 2026 - Registrations closed
DESCRIPTION:Norfolk Constabulary are offering a free session on Monday 26th January at 2pm for DA Champions to learn more about The Multi Agency Risk Assessment Co-ordination (MARAC)\, which is how local agencies share information about high-risk domestic abuse victims in Norfolk. The MARAC aims to increase the safety\, health and wellbeing of victims. It also aims to reduce the risk of serious harm or homicide. The session will provide clarity over local process and an opportunity to ask questions.
URL:https://nidasnorfolk.co.uk/event/norfolk-constabulary-webinar-multi-agency-risk-assessment-co-ordination-marac-january-2026/
LOCATION:Teams
END:VEVENT
BEGIN:VEVENT
DTSTART;TZID=Europe/London:20260225T093000
DTEND;TZID=Europe/London:20260225T143000
DTSTAMP:20260421T040416
CREATED:20260113T172144Z
LAST-MODIFIED:20260223T092702Z
UID:10000016-1772011800-1772029800@nidasnorfolk.co.uk
SUMMARY:A Trauma Informed Approach to Domestic Abuse CANCELLED  - Now to run on 21st April FULL
DESCRIPTION:MOVED to 21st April 2026 9.30am – 2.30pm – this training is FULL\nThe purpose of the NIDAS Trauma Informed Approach to Domestic Abuse training is to provide an understanding and enhance awareness of working with those who have been impacted by Domestic Abuse and the effects of trauma. \nAims of the session \n\nWhat is Trauma?​\nRecognise trauma prevalence and the impact on survivors\, their families and staff​\nA Trauma informed approach​\nHow to respond effectively ​\n\nAs a professional​\nAs an organisation ​\n\n\nExplore the Trauma Recovery Model.  ​\nExplore how to embed a Trauma-informed approach into workplace practices.​\nResources and further learning\n\nOnce successfully booked\, you will be emailed a joining link to the meeting nearer the time of the event.
URL:https://nidasnorfolk.co.uk/event/a-trauma-informed-approach-to-domestic-abuse/
LOCATION:Teams
END:VEVENT
BEGIN:VEVENT
DTSTART;TZID=Europe/London:20260318T093000
DTEND;TZID=Europe/London:20260318T133000
DTSTAMP:20260421T040416
CREATED:20260204T162559Z
LAST-MODIFIED:20260316T155920Z
UID:10000018-1773826200-1773840600@nidasnorfolk.co.uk
SUMMARY:'Supporting children’s agency and "unmuting" their voice in professional settings': FULL
DESCRIPTION:This is an online event via MS Teams which will explore children as victims in their own right in accordance with The Domestic Abuse Act 2021. \nSuzannah Armstrong from the Office of the Police Crime Commissioner Norfolk will open the event with a video – ‘Zuzannah Story’ – a powerful account from Zuzannah about her experience as a child of domestic abuse. \nWe have speakers from; \nThe Change Project – Zara Travers is the Training and Development Manager  –  With a background in Criminology and Psychology\, extensive frontline experience\, and lived experience as a child affected by domestic abuse\, Zara is committed to elevating the understanding of children as victims\, not witnesses\, in their own right. Her work centres on ‘unmuting’ the child’s voice within safeguarding and intervention\, ensuring professionals recognise the distinct harms\, needs\, and perspectives of children living with domestic abuse. In her upcoming talk\, she highlights why truly hearing\, validating\, and acting upon the child’s voice is essential to effective protection and long‑term recovery. \nThe CADS Team at Norfolk County Council represented by Lisa Smith -CADS Education Representative\, who is responsible for the daily delivery of Operation Encompass to school-age children within Norfolk. Lisa will be speaking about Operation Encompass and the importance of alerting schools and colleges early in the day. Alongside Lisa\, three Key Adults/Designated Safeguarding Leads from unique school settings will share how they listen and advocate their feelings and wishes. All three are Domestic Champions from primary\, secondary\, and special schools\, offering insight into how divergent this work can be. \nClaire Throssell MBE –  Survivor Claire Throssell’s two sons\, Jack\, 12\, and Paul\, 9\, were both killed by their father\, despite her warnings that he was a danger to them. She has since campaigned tirelessly to stop unsafe child contact with dangerous perpetrators of domestic abuse. Due to her commitment and resolve\, family courts are safer – it’s now mandatory for the courts to determine whether children will be at risk of harm from a contact order\, and perpetrators are no longer able to cross examine their victims in court. \nPlease apply via the form below.
URL:https://nidasnorfolk.co.uk/event/children-as-victims-of-domestic-abuse-online-learning-event/
LOCATION:Teams
END:VEVENT
BEGIN:VEVENT
DTSTART;TZID=Europe/London:20260430T093000
DTEND;TZID=Europe/London:20260430T130000
DTSTAMP:20260421T040416
CREATED:20260217T125147Z
LAST-MODIFIED:20260420T183712Z
UID:10000019-1777541400-1777554000@nidasnorfolk.co.uk
SUMMARY:Domestic Abuse & Children (Online Refresher) FULL
DESCRIPTION:The purpose of the NIDAS Domestic Abuse & Children Training is to provide an understanding and enhance awareness of the impact domestic abuse has on Children and the barriers they face when seeking support. \nLearning Aims \n\nTo understand the prevalence of children and young people experiencing domestic abuse​\nTo understand the impact of the Domestic Abuse Act 2021 and children​\nTo understand the impact of domestic abuse on children from pre-birth onwards and the connection with trauma​\nTo recognise the signs and symptoms of trauma in children and young people​\nTo understand how to respond to disclosures of domestic abuse​\nTo be aware of support services available​\n\n50 places available. Once successfully booked\, you will be emailed a link to the meeting before it begins.
URL:https://nidasnorfolk.co.uk/event/domestic-abuse-children-online-refresher/
LOCATION:Teams
END:VEVENT
BEGIN:VEVENT
DTSTART;TZID=Europe/London:20260602T093000
DTEND;TZID=Europe/London:20260602T143000
DTSTAMP:20260421T040416
CREATED:20260217T131100Z
LAST-MODIFIED:20260318T162811Z
UID:10000020-1780392600-1780410600@nidasnorfolk.co.uk
SUMMARY:Domestic Abuse & Intersectionality (Online Refresher)
DESCRIPTION:Domestic Abuse and Intersectionality\nWhen working with victim-survivors of domestic abuse\, it is essential to consider intersectionality – the way different aspects of a person’s identity (such as gender\, race\, ethnicity\, socioeconomic status\, disability\, sexual orientation\, and immigration status) interact to shape their experiences of privilege and oppression. This in turn affects their experiences of abuse and the potential response from the agencies that work with them. \nTraining aims \nTo understand; \n\nWhat intersectionality is.​\nWhat oppression and privilege mean.​\nWhat stereotypes are and why they can be harmful.​\nWhat discrimination and double discrimination mean.​\nMyths around intersectionality.​\nThe importance of intersectionality when working in Domestic Abuse.​\nIntersectionality and children and young people.​\nHow to approach our personal and professional lives with intersectionality.​\nHow organisations can embed intersectionality.​\nWhich organisations offer specialist support.​\nHow to apply your learning using a case study\n\n\n\n                \n                        \n                            Domestic Abuse & Intersectionality\n                             \n                        \n                        Name(Required)\n                            \n                            \n                                                    \n                                                    First\n                                                \n                            \n                            \n                                                    \n                                                    Last\n                                                \n                            \n                        Organisation(Required)Role(Required)Email(Required)\n                            \n                        PhoneAdditional requirement to support your trainingAre you a DA Champion - please mark one box with an xYesNo    Add   Remove
URL:https://nidasnorfolk.co.uk/event/domestic-abuse-intersectionality-online-refresher/
LOCATION:Teams
END:VEVENT
BEGIN:VEVENT
DTSTART;TZID=Europe/London:20260707T093000
DTEND;TZID=Europe/London:20260707T130000
DTSTAMP:20260421T040416
CREATED:20260217T132425Z
LAST-MODIFIED:20260217T132425Z
UID:10000021-1783416600-1783429200@nidasnorfolk.co.uk
SUMMARY:Domestic Abuse Stalking and Harassment Risk Assessment (Online refresher)
DESCRIPTION:The purpose of the NIDAS Domestic Abuse\, Stalking & Harassment (DASH) training is to provide an understanding and enhance awareness of how to identify\, assess and respond to risk when someone is experiencing domestic abuse. \nLearning Aims \n\nGuidance for professionals​\nRisk Assessment Key Stages​\nAn introduction to the DASH-RIC: Domestic Abuse Stalking\, Harassment Risk Indicator Checklist\nAn introduction to the MARAC referral form\nExplore National Case Studies\n\n50 places available. Once successfully booked\, you will be emailed a link to the meeting before it begins. \n\n                \n                        \n                            Domestic Abuse\, Stalking & Harassment (DASH) Training 2026\n                             \n                        \n                        Name(Required)\n                            \n                            \n                                                    \n                                                    First\n                                                \n                            \n                            \n                                                    \n                                                    Last\n                                                \n                            \n                        Organisation(Required)Role(Required)Email(Required)\n                            \n                        PhoneAdditional requirement to support your trainingAre you a DA Champion - please mark one box with an xYesNo    Add   Remove
URL:https://nidasnorfolk.co.uk/event/domestic-abuse-stalking-and-harassment-risk-assessment-online-refresher/
LOCATION:Teams
END:VEVENT
BEGIN:VEVENT
DTSTART;TZID=Europe/London:20260922T093000
DTEND;TZID=Europe/London:20260922T123000
DTSTAMP:20260421T040416
CREATED:20260204T155715Z
LAST-MODIFIED:20260420T183249Z
UID:10000017-1790069400-1790080200@nidasnorfolk.co.uk
SUMMARY:A Trauma Informed Approach to Domestic Abuse - Repeat training (Online refresher)
DESCRIPTION:The purpose of the NIDAS Trauma Informed Approach to Domestic Abuse training is to provide an understanding and enhance awareness of working with those who have been impacted by Domestic Abuse and the effects of trauma \nAims of the session​ \n\nWhat is Trauma?​\nRecognise trauma prevalence and the impact on survivors\, their families and staff\nHow to respond effectively ​\n\nAs a professional​\nAs an organisation ​\n\n\nExplore the Trauma Recovery Model.  ​\nExplore how to embed a Trauma-informed approach into workplace practices.​\nResources and further learning\n\n\n                \n                        \n                            A Trauma Informed Approach to Domestic Abuse 22 Sept 2026\n                             \n                        \n                        Name(Required)\n                            \n                            \n                                                    \n                                                    First\n                                                \n                            \n                            \n                                                    \n                                                    Last\n                                                \n                            \n                        Organisation(Required)Role(Required)Email(Required)\n                            \n                        PhoneAdditional requirement to support your trainingAre you a DA Champion - please mark one box with an xYesNo    Add   Remove
URL:https://nidasnorfolk.co.uk/event/a-trauma-informed-approach-to-domestic-abuse-online-via-msteams/
LOCATION:Teams
END:VEVENT
BEGIN:VEVENT
DTSTART;TZID=UTC:20261022T093000
DTEND;TZID=UTC:20261022T123000
DTSTAMP:20260421T040416
CREATED:20260217T133902Z
LAST-MODIFIED:20260217T133902Z
UID:10000022-1792661400-1792672200@nidasnorfolk.co.uk
SUMMARY:Domestic Abuse and Older People 2026 (Online refresher)
DESCRIPTION:Description \nThe purpose of the NIDAS Domestic Abuse and Older People training is to provide awareness and understanding of the impact domestic abuse has on older people and the barriers they face when seeking support. \nLearning Aims  \n\nTo recognise the signs and symptoms of domestic abuse in older people\nTo look at National and Local prevalence\nTo understand the barriers facing older people in disclosing abuse\nKnow what to do if you are worried about an older person experiencing domestic abuse\nHave knowledge of Local and National specialist support agencies\n\n50 places available. Once successfully booked\, you will be emailed a link to the meeting before it begins. \n\n                \n                        \n                            Domestic Abuse and Older People 2026\n                             \n                        \n                        Name(Required)\n                            \n                            \n                                                    \n                                                    First\n                                                \n                            \n                            \n                                                    \n                                                    Last\n                                                \n                            \n                        Organisation(Required)Role(Required)Email(Required)\n                            \n                        PhoneAdditional requirement to support your trainingAre you a DA Champion - please mark one box with an xYesNo    Add   Remove
URL:https://nidasnorfolk.co.uk/event/domestic-abuse-and-older-people-2026-online-refresher/
LOCATION:Teams
END:VEVENT
END:VCALENDAR